BEGIN:VCALENDAR
VERSION:2.0
PRODID:-//wp-events-plugin.com//7.2.3.1//EN
TZID:Europe/Berlin
X-WR-TIMEZONE:Europe/Berlin
BEGIN:VEVENT
UID:45@vhs-oberhaching.de
DTSTART;TZID=Europe/Berlin:20260123T163000
DTEND;TZID=Europe/Berlin:20260123T180000
DTSTAMP:20250826T104738Z
URL:https://www.vhs-oberhaching.de/events/was-zu-verschwinden-droht-wird-b
 ild-mensch-natur-kunst/
SUMMARY:Was zu verschwinden droht\, wird Bild: Mensch – Natur – Kunst
DESCRIPTION:Es ist ein Gemeinplatz\, erschreckend und faszinierend zugleich
 : Alles\, was in Bildern festgehalten wurde\, existiert nicht mehr oder ni
 cht mehr in der dargestellten Form. In der Kunst findet sich das Thema Ver
 gänglichkeit oft sinnbildlich umgesetzt\, als Memento Mori oder melanchol
 ische Meditation über das Verschwinden von Dingen. Auch Bilder von Träum
 en\, Begegnungen mit Menschen\, Erkundungen der Natur zeigen nur vorüberg
 ehende Momente. Manchmal wird das Flüchtige explizit zum Thema einer Dars
 tellung\, die es trotzdem festzuhalten sucht: Wolken wandeln sich ständig
 \, Schnee schmilzt bald\, Bäume blühen nur kurze Zeit. In Zeiten des Kli
 mawandels ist das Bewusstsein dafür\, dass sich unsere Umwelt rasant ver
 ändert\, allgegenwärtig geworden. Deshalb betrachten wir insbesondere We
 rke der Landschaftskunst heute mit anderen Augen. Sie zeigen eine Natur\, 
 die immer schon von Menschen beeinflusst war. Eine Landschaft ist nicht me
 hr nur ein schöner Anblick\, sondern ein bedrohtes Ökosystem.Die Ausstel
 lung im Lenbachhaus ist um derartige Augenblicke des Erkennens gebaut. Sie
  zeigt bekannte wie auch selten oder bisher noch nie gezeigte Werke des 19
 . und 20. Jahrhunderts aus den Sammlungen des Lenbachhauses\, des Historis
 chen Vereins von Oberbayern\, der Christoph Heilmann Stiftung\, der Münch
 ener Secession\, der Gabriele Münter- und Johannes Eichner-Stiftung und d
 es Förderverein Lenbachhaus e. V.\n\nFührung mit Ursula Simon-Schuster\n
 \nZur Anmeldung
ATTACH;FMTTYPE=image/jpeg:https://www.vhs-oberhaching.de/wp-content/upload
 s/2025/08/Thomas-Theodor-Heine-Der-Angler_c-Lenbachhaus-scaled.jpg
CATEGORIES:Ausstellung
LOCATION:Lenbachhaus\, Foyer\, Luisenstr. 33\, München\, 80333\, Deutschla
 nd
X-APPLE-STRUCTURED-LOCATION;VALUE=URI;X-ADDRESS=Luisenstr. 33\, München\, 
 80333\, Deutschland;X-APPLE-RADIUS=100;X-TITLE=Lenbachhaus\, Foyer:geo:0,0
END:VEVENT
BEGIN:VTIMEZONE
TZID:Europe/Berlin
X-LIC-LOCATION:Europe/Berlin
BEGIN:STANDARD
DTSTART:20251026T020000
TZOFFSETFROM:+0200
TZOFFSETTO:+0100
TZNAME:CET
END:STANDARD
END:VTIMEZONE
END:VCALENDAR